BEGIN:VCALENDAR
VERSION:2.0
PRODID:-//Killimer Parish - ECPv6.15.20//NONSGML v1.0//EN
CALSCALE:GREGORIAN
METHOD:PUBLISH
X-ORIGINAL-URL:https://www.killimerparish.com
X-WR-CALDESC:Events for Killimer Parish
REFRESH-INTERVAL;VALUE=DURATION:PT1H
X-Robots-Tag:noindex
X-PUBLISHED-TTL:PT1H
BEGIN:VTIMEZONE
TZID:Europe/Dublin
BEGIN:STANDARD
TZOFFSETFROM:+0000
TZOFFSETTO:+0100
TZNAME:IST
DTSTART:20230326T010000
END:STANDARD
BEGIN:DAYLIGHT
TZOFFSETFROM:+0100
TZOFFSETTO:+0000
TZNAME:GMT
DTSTART:20231029T010000
END:DAYLIGHT
BEGIN:STANDARD
TZOFFSETFROM:+0000
TZOFFSETTO:+0100
TZNAME:IST
DTSTART:20240331T010000
END:STANDARD
BEGIN:DAYLIGHT
TZOFFSETFROM:+0100
TZOFFSETTO:+0000
TZNAME:GMT
DTSTART:20241027T010000
END:DAYLIGHT
BEGIN:STANDARD
TZOFFSETFROM:+0000
TZOFFSETTO:+0100
TZNAME:IST
DTSTART:20250330T010000
END:STANDARD
BEGIN:DAYLIGHT
TZOFFSETFROM:+0100
TZOFFSETTO:+0000
TZNAME:GMT
DTSTART:20251026T010000
END:DAYLIGHT
END:VTIMEZONE
BEGIN:VEVENT
DTSTART;TZID=Europe/Dublin:20240920T180000
DTEND;TZID=Europe/Dublin:20240920T230000
DTSTAMP:20260423T185343
CREATED:20240812T201416Z
LAST-MODIFIED:20240908T200815Z
UID:4044-1726855200-1726873200@www.killimerparish.com
SUMMARY:Culture Night
DESCRIPTION:Sr. Nancy(Dympna) Bonfield- Exhibition of 12 Paintings; \nOakhill Players & Short Play; \nSinging \nAll welcome
URL:https://www.killimerparish.com/event/culture-night/
LOCATION:Knockerra Hall\, V15 VK23\, Ireland
CATEGORIES:Upcoming
ATTACH;FMTTYPE=image/png:https://www.killimerparish.com/wp-content/uploads/2024/08/Culture-Night.png
END:VEVENT
BEGIN:VEVENT
DTSTART;TZID=Europe/Dublin:20240919T200000
DTEND;TZID=Europe/Dublin:20240919T213000
DTSTAMP:20260423T185343
CREATED:20240908T195948Z
LAST-MODIFIED:20240908T200703Z
UID:4066-1726776000-1726781400@www.killimerparish.com
SUMMARY:Oakhill Players Drama Group
DESCRIPTION:Meeting Room in Knockerra Hall for “Play Reading”
URL:https://www.killimerparish.com/event/oakhill-players-drama-group/
LOCATION:Knockerra Hall\, V15 VK23\, Ireland
CATEGORIES:Upcoming
ATTACH;FMTTYPE=image/jpeg:https://www.killimerparish.com/wp-content/uploads/2024/09/Coloured-Masks.jpg
END:VEVENT
BEGIN:VEVENT
DTSTART;TZID=Europe/Dublin:20240825T140000
DTEND;TZID=Europe/Dublin:20240825T170000
DTSTAMP:20260423T185343
CREATED:20240624T074013Z
LAST-MODIFIED:20240812T201819Z
UID:3954-1724594400-1724605200@www.killimerparish.com
SUMMARY:Heritage Day- Killimer Parish History Group
DESCRIPTION:
URL:https://www.killimerparish.com/event/heritage-day-killimer-parish-history-group/
LOCATION:Knockerra Hall\, V15 VK23\, Ireland
CATEGORIES:Upcoming
ATTACH;FMTTYPE=image/jpeg:https://www.killimerparish.com/wp-content/uploads/2024/06/History-Group.jpeg
END:VEVENT
BEGIN:VEVENT
DTSTART;TZID=Europe/Dublin:20240726T193000
DTEND;TZID=Europe/Dublin:20240726T220000
DTSTAMP:20260423T185343
CREATED:20240720T093625Z
LAST-MODIFIED:20240720T093625Z
UID:4015-1722022200-1722031200@www.killimerparish.com
SUMMARY:Launch of “Augustines Delight” CD by Morgan Roughan
DESCRIPTION:
URL:https://www.killimerparish.com/event/launch-of-augustines-delight-cd-by-morgan-roughan-2/
LOCATION:Knockerra Hall\, V15 VK23\, Ireland
CATEGORIES:Upcoming
END:VEVENT
BEGIN:VEVENT
DTSTART;TZID=Europe/Dublin:20240703T193000
DTEND;TZID=Europe/Dublin:20240703T210000
DTSTAMP:20260423T185343
CREATED:20240624T080907Z
LAST-MODIFIED:20240624T080907Z
UID:3977-1720035000-1720040400@www.killimerparish.com
SUMMARY:Burrane Graveyard Mass
DESCRIPTION:
URL:https://www.killimerparish.com/event/burrane-graveyard-mass/
CATEGORIES:Upcoming
END:VEVENT
BEGIN:VEVENT
DTSTART;TZID=Europe/Dublin:20240702T193000
DTEND;TZID=Europe/Dublin:20240702T210000
DTSTAMP:20260423T185343
CREATED:20240624T080816Z
LAST-MODIFIED:20240624T080816Z
UID:3975-1719948600-1719954000@www.killimerparish.com
SUMMARY:Molougha Graveyard Mass
DESCRIPTION:
URL:https://www.killimerparish.com/event/molougha-graveyard-mass/
CATEGORIES:Upcoming
END:VEVENT
BEGIN:VEVENT
DTSTART;TZID=Europe/Dublin:20240701T193000
DTEND;TZID=Europe/Dublin:20240701T210000
DTSTAMP:20260423T185343
CREATED:20240624T080654Z
LAST-MODIFIED:20240624T080722Z
UID:3973-1719862200-1719867600@www.killimerparish.com
SUMMARY:Knockerra Graveyard Mass
DESCRIPTION:
URL:https://www.killimerparish.com/event/knockerra-graveyard-mass/
CATEGORIES:Upcoming
END:VEVENT
END:VCALENDAR